BEGIN:VCALENDAR
VERSION:2.0
PRODID:-//Conseil supérieur de l’éducation, de la formation et de la recherche scientifique - ECPv6.15.20//NONSGML v1.0//EN
CALSCALE:GREGORIAN
METHOD:PUBLISH
X-ORIGINAL-URL:https://csefrs.lifemoz.com
X-WR-CALDESC:Events for Conseil supérieur de l’éducation, de la formation et de la recherche scientifique
REFRESH-INTERVAL;VALUE=DURATION:PT1H
X-Robots-Tag:noindex
X-PUBLISHED-TTL:PT1H
BEGIN:VTIMEZONE
TZID:Africa/Casablanca
BEGIN:DAYLIGHT
TZOFFSETFROM:+0000
TZOFFSETTO:+0100
TZNAME:+01
DTSTART:20170326T020000
END:DAYLIGHT
BEGIN:STANDARD
TZOFFSETFROM:+0100
TZOFFSETTO:+0000
TZNAME:+00
DTSTART:20170521T020000
END:STANDARD
BEGIN:DAYLIGHT
TZOFFSETFROM:+0000
TZOFFSETTO:+0100
TZNAME:+01
DTSTART:20170702T020000
END:DAYLIGHT
BEGIN:STANDARD
TZOFFSETFROM:+0100
TZOFFSETTO:+0000
TZNAME:+00
DTSTART:20171029T020000
END:STANDARD
BEGIN:DAYLIGHT
TZOFFSETFROM:+0000
TZOFFSETTO:+0100
TZNAME:+01
DTSTART:20180325T020000
END:DAYLIGHT
BEGIN:STANDARD
TZOFFSETFROM:+0100
TZOFFSETTO:+0000
TZNAME:+00
DTSTART:20180513T020000
END:STANDARD
BEGIN:DAYLIGHT
TZOFFSETFROM:+0000
TZOFFSETTO:+0100
TZNAME:+01
DTSTART:20180617T020000
END:DAYLIGHT
BEGIN:STANDARD
TZOFFSETFROM:+0100
TZOFFSETTO:+0000
TZNAME:+00
DTSTART:20190505T020000
END:STANDARD
BEGIN:DAYLIGHT
TZOFFSETFROM:+0000
TZOFFSETTO:+0100
TZNAME:+01
DTSTART:20190609T020000
END:DAYLIGHT
END:VTIMEZONE
BEGIN:VEVENT
DTSTART;VALUE=DATE:20180227
DTEND;VALUE=DATE:20180228
DTSTAMP:20260420T155405
CREATED:20180226T125313Z
LAST-MODIFIED:20180226T125313Z
UID:7990-1519689600-1519775999@csefrs.lifemoz.com
SUMMARY:حفل توقيع المجلس لاتفاقيات تعاون مع المندوبية السامية للتخطيط والجامعات المغربية
DESCRIPTION:ينظم المجلس الأعلى للتربية والتكوين والبحث العلمي، حفل توقيع المجلس لاتفاقيات تعاون مع المندوبية السامية للتخطيط والجامعات المغربية، وذلك يوم الثلاثاء 27 فبراير 2018، ابتداء من الساعة الرابعة و 30 دقيقة بعد الزوال، بمقره الكائن بملتقى شارع علال الفاسي وشارع ألميليا، بالرباط.  \nتتوخى الاتفاقية الإطار الموقعة بين المجلس الأعلى للتربية والتكوين والبحث العلمي والمندوبية السامية للتخطيط، إلى تتويج المسار التعاوني الطويل بين المؤسستين، و إعطائه  طابعا مؤسساتيا يضمن له المزيد من التنظيم والاستدامة، بالإضافة إلى تمكين المجلس من الاضطلاع الأمثل بمهامه الاستشارية والتقييمية والاقتراحية، وتعزيز الجهود بين المؤسستين من أجل إنتاج معرفة موضوعية وحقيقية عن واقع المنظومة التربوية بواسطة معطيات ومعلومات موثوقة ومحينة، كفيلة بالمساعدة على اتخاذ القرارات التي من شأنها الارتقاء بالمدرسة المغربية وجعلها قادرة على رفع تحديات المشروع التنموي الجديد. \n  \nأما اتفاقية التعاون الثانية الموقعة بين المجلس والجامعات المغربية، فتهدف إلى وضع إطار مرجعي للشراكة، قوامه بالأساس، تبادل المعلومات والمعطيات والوثائق والاصدارات، والاشتغال المشترك على مشاريع للتكوين، للدراسة والبحث، وإنجاز تقييمات داخلية وخارجية لمنظومة التعليم العالي والبحث العلمي، وإحداث مرصد لتتبع وتقييم اندماج خريجي التعليم العالي، وإرساء شبكة للخبراء، بالإضافة إلى التنظيم المشترك لأنشطة علمية وأكاديمية. \n  \nيترأس هذا الحفل السيد عمر عزيمان، رئيس المجلس الأعلى للتربية والتكوين والبحث العلمي، بحضور السيد أحمد الحليمي، المندوب السامي للتخطيط، والسيد سعيد أمزازي وزير التربية الوطنية والتكوين المهني والتعليم العالي والبحث العلمي، والسيد خالد الصمدي، كاتب الدولة المكلف بالتعليم العالي والبحث العلمي، والسيد محمد الغراس، كاتب الدولة المكلف بالتكوين المهني، بمشاركة السادة رؤساء الجامعات المغربية، بالإضافة إلى مجموعة من مسؤولي المصالح المركزية للقطاعات الوزارية المشرفة على التربية الوطنية والتكوين المهني والتعليم العالي والبحث العلمي، وعدد من شركاء المجلس.
URL:https://csefrs.lifemoz.com/أحداث/%d8%ad%d9%81%d9%84-%d8%aa%d9%88%d9%82%d9%8a%d8%b9-%d8%a7%d9%84%d9%85%d8%ac%d9%84%d8%b3-%d9%84%d8%a7%d8%aa%d9%81%d8%a7%d9%82%d9%8a%d8%a7%d8%aa-%d8%aa%d8%b9%d8%a7%d9%88%d9%86/
CATEGORIES:أنشطة أخرى
ATTACH;FMTTYPE=image/jpeg:https://csefrs.lifemoz.com/wp-content/uploads/2018/02/signature-124360764-5a2addd07bb2830037c9b944.jpg
END:VEVENT
END:VCALENDAR